Package: ASpli Version: 2.19.0 Command: rm -rf ASpli.buildbin-libdir && mkdir ASpli.buildbin-libdir && /Users/biocbuild/BBS/utils/build-universal.sh ASpli_2.19.0.tar.gz /Library/Frameworks/R.framework/Resources/bin/R ASpli.buildbin-libdir StartedAt: 2025-07-02 00:45:59 -0400 (Wed, 02 Jul 2025) EndedAt: 2025-07-02 00:47:28 -0400 (Wed, 02 Jul 2025) EllapsedTime: 88.8 seconds RetCode: 0 Status: OK PackageFile: ASpli_2.19.0.tgz PackageFileSize: 3.199 MiB