Package: ASpli Version: 2.19.0 Command: /Library/Frameworks/R.framework/Resources/bin/R CMD INSTALL ASpli StartedAt: 2025-07-11 15:24:32 -0400 (Fri, 11 Jul 2025) EndedAt: 2025-07-11 15:24:57 -0400 (Fri, 11 Jul 2025) EllapsedTime: 25.2 seconds RetCode: 0 Status: OK