Package: ASSET Version: 2.27.0 Command: /home/biocbuild/R/R/bin/R CMD INSTALL ASSET StartedAt: 2025-07-14 20:16:24 -0000 (Mon, 14 Jul 2025) EndedAt: 2025-07-14 20:17:31 -0000 (Mon, 14 Jul 2025) EllapsedTime: 66.4 seconds RetCode: 0 Status: OK