Package: ASSET Version: 2.27.0 Command: /home/biocbuild/R/R/bin/R CMD check --install=check:ASSET.install-out.txt --library=/home/biocbuild/R/R/site-library --no-vignettes --timings ASSET_2.27.0.tar.gz StartedAt: 2025-07-15 04:15:23 -0000 (Tue, 15 Jul 2025) EndedAt: 2025-07-15 04:17:56 -0000 (Tue, 15 Jul 2025) EllapsedTime: 152.2 seconds RetCode: 0 Status: OK CheckDir: ASSET.Rcheck Warnings: 0