Package: ASSET Version: 2.27.0 Command: F:\biocbuild\bbs-3.22-bioc\R\bin\R.exe CMD check --no-multiarch --install=check:ASSET.install-out.txt --library=F:\biocbuild\bbs-3.22-bioc\R\library --no-vignettes --timings ASSET_2.27.0.tar.gz StartedAt: 2025-07-01 23:22:07 -0400 (Tue, 01 Jul 2025) EndedAt: 2025-07-01 23:24:33 -0400 (Tue, 01 Jul 2025) EllapsedTime: 146.6 seconds RetCode: 0 Status: OK CheckDir: ASSET.Rcheck Warnings: 0