Package: ASSET Version: 2.27.0 Command: /Library/Frameworks/R.framework/Resources/bin/R CMD build --keep-empty-dirs --no-resave-data ASSET StartedAt: 2025-07-20 16:07:35 -0400 (Sun, 20 Jul 2025) EndedAt: 2025-07-20 16:07:57 -0400 (Sun, 20 Jul 2025) EllapsedTime: 21.7 seconds RetCode: 0 Status: OK PackageFile: ASSET_2.27.0.tar.gz PackageFileSize: 321.5 KiB