Package: ASSET Version: 2.27.0 Command: rm -rf ASSET.buildbin-libdir && mkdir ASSET.buildbin-libdir && /Users/biocbuild/BBS/utils/build-universal.sh ASSET_2.27.0.tar.gz /Library/Frameworks/R.framework/Resources/bin/R ASSET.buildbin-libdir StartedAt: 2025-07-21 00:51:16 -0400 (Mon, 21 Jul 2025) EndedAt: 2025-07-21 00:51:30 -0400 (Mon, 21 Jul 2025) EllapsedTime: 13.7 seconds RetCode: 0 Status: OK PackageFile: ASSET_2.27.0.tgz PackageFileSize: 474.1 KiB