Package: ASICS Version: 2.25.0 Command: F:\biocbuild\bbs-3.22-bioc\R\bin\R.exe CMD INSTALL ASICS StartedAt: 2025-06-29 16:57:12 -0400 (Sun, 29 Jun 2025) EndedAt: 2025-06-29 16:58:18 -0400 (Sun, 29 Jun 2025) EllapsedTime: 66.5 seconds RetCode: 0 Status: OK