Package: ASICS Version: 2.25.0 Command: F:\biocbuild\bbs-3.22-bioc\R\bin\R.exe CMD check --no-multiarch --install=check:ASICS.install-out.txt --library=F:\biocbuild\bbs-3.22-bioc\R\library --no-vignettes --timings ASICS_2.25.0.tar.gz StartedAt: 2025-06-29 23:19:49 -0400 (Sun, 29 Jun 2025) EndedAt: 2025-06-29 23:35:34 -0400 (Sun, 29 Jun 2025) EllapsedTime: 944.7 seconds RetCode: 0 Status: WARNINGS CheckDir: ASICS.Rcheck Warnings: 1