Package: ASICS Version: 2.25.0 Command: chmod a+r ASICS -R && F:\biocbuild\bbs-3.22-bioc\R\bin\R.exe CMD build --keep-empty-dirs --no-resave-data ASICS StartedAt: 2025-06-29 17:23:23 -0400 (Sun, 29 Jun 2025) EndedAt: 2025-06-29 17:27:55 -0400 (Sun, 29 Jun 2025) EllapsedTime: 271.5 seconds RetCode: 0 Status: OK PackageFile: ASICS_2.25.0.tar.gz PackageFileSize: 3.581 MiB