Package: ASICS Version: 2.25.0 Command: /Library/Frameworks/R.framework/Resources/bin/R CMD check --install=check:ASICS.install-out.txt --library=/Library/Frameworks/R.framework/Resources/library --no-vignettes --timings ASICS_2.25.0.tar.gz StartedAt: 2025-06-29 18:58:09 -0400 (Sun, 29 Jun 2025) EndedAt: 2025-06-29 19:11:34 -0400 (Sun, 29 Jun 2025) EllapsedTime: 805.2 seconds RetCode: 0 Status: WARNINGS CheckDir: ASICS.Rcheck Warnings: 1