Package: ASICS Version: 2.25.0 Command: rm -rf ASICS.buildbin-libdir && mkdir ASICS.buildbin-libdir && /Users/biocbuild/BBS/utils/build-universal.sh ASICS_2.25.0.tar.gz /Library/Frameworks/R.framework/Resources/bin/R ASICS.buildbin-libdir StartedAt: 2025-06-29 22:09:54 -0400 (Sun, 29 Jun 2025) EndedAt: 2025-06-29 22:10:09 -0400 (Sun, 29 Jun 2025) EllapsedTime: 14.3 seconds RetCode: 0 Status: OK PackageFile: ASICS_2.25.0.tgz PackageFileSize: 4.126 MiB