Package: ASGSCA Version: 1.43.0 Command: F:\biocbuild\bbs-3.22-bioc\R\bin\R.exe CMD INSTALL ASGSCA StartedAt: 2025-07-01 15:20:00 -0400 (Tue, 01 Jul 2025) EndedAt: 2025-07-01 15:20:17 -0400 (Tue, 01 Jul 2025) EllapsedTime: 17.7 seconds RetCode: 0 Status: OK