Package: ASGSCA Version: 1.43.0 Command: rm -rf ASGSCA.buildbin-libdir && mkdir ASGSCA.buildbin-libdir && F:\biocbuild\bbs-3.22-bioc\R\bin\R.exe CMD INSTALL --build --library=ASGSCA.buildbin-libdir ASGSCA_1.43.0.tar.gz StartedAt: 2025-07-02 08:20:32 -0400 (Wed, 02 Jul 2025) EndedAt: 2025-07-02 08:20:43 -0400 (Wed, 02 Jul 2025) EllapsedTime: 10.6 seconds RetCode: 0 Status: OK PackageFile: ASGSCA_1.43.0.zip PackageFileSize: 767.1 KiB