Package: ASEB Version: 1.53.0 Command: F:\biocbuild\bbs-3.22-bioc\R\bin\R.exe CMD check --no-multiarch --install=check:ASEB.install-out.txt --library=F:\biocbuild\bbs-3.22-bioc\R\library --no-vignettes --timings ASEB_1.53.0.tar.gz StartedAt: 2025-07-01 23:21:40 -0400 (Tue, 01 Jul 2025) EndedAt: 2025-07-01 23:22:34 -0400 (Tue, 01 Jul 2025) EllapsedTime: 53.7 seconds RetCode: 0 Status: OK CheckDir: ASEB.Rcheck Warnings: 0