Package: ASEB Version: 1.53.0 Command: chmod a+r ASEB -R && F:\biocbuild\bbs-3.22-bioc\R\bin\R.exe CMD build --keep-empty-dirs --no-resave-data ASEB StartedAt: 2025-07-01 17:20:57 -0400 (Tue, 01 Jul 2025) EndedAt: 2025-07-01 17:21:32 -0400 (Tue, 01 Jul 2025) EllapsedTime: 35.5 seconds RetCode: 0 Status: OK PackageFile: ASEB_1.53.0.tar.gz PackageFileSize: 477 KiB