Package: ASEB Version: 1.53.0 Command: rm -rf ASEB.buildbin-libdir && mkdir ASEB.buildbin-libdir && F:\biocbuild\bbs-3.22-bioc\R\bin\R.exe CMD INSTALL --build --library=ASEB.buildbin-libdir ASEB_1.53.0.tar.gz StartedAt: 2025-07-02 08:20:31 -0400 (Wed, 02 Jul 2025) EndedAt: 2025-07-02 08:20:48 -0400 (Wed, 02 Jul 2025) EllapsedTime: 17.6 seconds RetCode: 0 Status: OK PackageFile: ASEB_1.53.0.zip PackageFileSize: 989.4 KiB