Package: ASAFE Version: 1.35.0 Command: /home/biocbuild/R/R/bin/R CMD check --install=check:ASAFE.install-out.txt --library=/home/biocbuild/R/R/site-library --no-vignettes --timings ASAFE_1.35.0.tar.gz StartedAt: 2025-07-15 04:14:50 -0000 (Tue, 15 Jul 2025) EndedAt: 2025-07-15 04:15:10 -0000 (Tue, 15 Jul 2025) EllapsedTime: 20.1 seconds RetCode: 0 Status: OK CheckDir: ASAFE.Rcheck Warnings: 0