Package: ARRmNormalization Version: 1.49.0 Command: /home/biocbuild/R/R/bin/R CMD INSTALL ARRmNormalization StartedAt: 2025-07-14 20:12:14 -0000 (Mon, 14 Jul 2025) EndedAt: 2025-07-14 20:12:46 -0000 (Mon, 14 Jul 2025) EllapsedTime: 32.0 seconds RetCode: 0 Status: OK