Package: APAlyzer Version: 1.23.0 Command: F:\biocbuild\bbs-3.22-bioc\R\bin\R.exe CMD INSTALL APAlyzer StartedAt: 2025-07-22 16:49:05 -0400 (Tue, 22 Jul 2025) EndedAt: 2025-07-22 16:49:58 -0400 (Tue, 22 Jul 2025) EllapsedTime: 52.8 seconds RetCode: 0 Status: OK