Package: APAlyzer Version: 1.23.0 Command: chmod a+r APAlyzer -R && F:\biocbuild\bbs-3.22-bioc\R\bin\R.exe CMD build --keep-empty-dirs --no-resave-data APAlyzer StartedAt: 2025-07-22 17:22:22 -0400 (Tue, 22 Jul 2025) EndedAt: 2025-07-22 17:28:01 -0400 (Tue, 22 Jul 2025) EllapsedTime: 339.6 seconds RetCode: 0 Status: OK PackageFile: APAlyzer_1.23.0.tar.gz PackageFileSize: 3.5 MiB