Package: APAlyzer Version: 1.23.0 Command: rm -rf APAlyzer.buildbin-libdir && mkdir APAlyzer.buildbin-libdir && F:\biocbuild\bbs-3.22-bioc\R\bin\R.exe CMD INSTALL --build --library=APAlyzer.buildbin-libdir APAlyzer_1.23.0.tar.gz StartedAt: 2025-07-23 08:35:32 -0400 (Wed, 23 Jul 2025) EndedAt: 2025-07-23 08:36:32 -0400 (Wed, 23 Jul 2025) EllapsedTime: 60.0 seconds RetCode: 0 Status: OK PackageFile: APAlyzer_1.23.0.zip PackageFileSize: 3.582 MiB