Package: ANF Version: 1.31.0 Command: /home/biocbuild/R/R/bin/R CMD check --install=check:ANF.install-out.txt --library=/home/biocbuild/R/R/site-library --no-vignettes --timings ANF_1.31.0.tar.gz StartedAt: 2025-07-15 04:10:30 -0000 (Tue, 15 Jul 2025) EndedAt: 2025-07-15 04:12:15 -0000 (Tue, 15 Jul 2025) EllapsedTime: 105.2 seconds RetCode: 0 Status: OK CheckDir: ANF.Rcheck Warnings: 0