Package: ANF Version: 1.31.0 Command: /home/biocbuild/R/R/bin/R CMD build --keep-empty-dirs --no-resave-data ANF StartedAt: 2025-07-14 21:36:06 -0000 (Mon, 14 Jul 2025) EndedAt: 2025-07-14 22:05:06 -0000 (Mon, 14 Jul 2025) EllapsedTime: 1740.5 seconds RetCode: 0 Status: OK PackageFile: ANF_1.31.0.tar.gz PackageFileSize: 708.1 KiB