Package: ANF Version: 1.31.0 Command: rm -rf ANF.buildbin-libdir && mkdir ANF.buildbin-libdir && F:\biocbuild\bbs-3.22-bioc\R\bin\R.exe CMD INSTALL --build --library=ANF.buildbin-libdir ANF_1.31.0.tar.gz StartedAt: 2025-07-23 08:34:39 -0400 (Wed, 23 Jul 2025) EndedAt: 2025-07-23 08:34:52 -0400 (Wed, 23 Jul 2025) EllapsedTime: 13.0 seconds RetCode: 0 Status: OK PackageFile: ANF_1.31.0.zip PackageFileSize: 254.5 KiB