Package: ANF Version: 1.31.0 Command: /Library/Frameworks/R.framework/Resources/bin/R CMD INSTALL ANF StartedAt: 2025-07-11 15:13:36 -0400 (Fri, 11 Jul 2025) EndedAt: 2025-07-11 15:13:46 -0400 (Fri, 11 Jul 2025) EllapsedTime: 10.0 seconds RetCode: 0 Status: OK