Package: ANF Version: 1.31.0 Command: /Library/Frameworks/R.framework/Resources/bin/R CMD check --install=check:ANF.install-out.txt --library=/Library/Frameworks/R.framework/Resources/library --no-vignettes --timings ANF_1.31.0.tar.gz StartedAt: 2025-07-11 19:05:41 -0400 (Fri, 11 Jul 2025) EndedAt: 2025-07-11 19:07:38 -0400 (Fri, 11 Jul 2025) EllapsedTime: 117.0 seconds RetCode: 0 Status: OK CheckDir: ANF.Rcheck Warnings: 0