Package: ANF Version: 1.31.0 Command: rm -rf ANF.buildbin-libdir && mkdir ANF.buildbin-libdir && /Users/biocbuild/BBS/utils/build-universal.sh ANF_1.31.0.tar.gz /Library/Frameworks/R.framework/Resources/bin/R ANF.buildbin-libdir StartedAt: 2025-07-12 00:44:23 -0400 (Sat, 12 Jul 2025) EndedAt: 2025-07-12 00:44:35 -0400 (Sat, 12 Jul 2025) EllapsedTime: 12.4 seconds RetCode: 0 Status: OK PackageFile: ANF_1.31.0.tgz PackageFileSize: 251.4 KiB