Package: ANF Version: 1.31.0 Command: /Library/Frameworks/R.framework/Resources/bin/R CMD build --keep-empty-dirs --no-resave-data ANF StartedAt: 2025-10-05 15:37:07 -0400 (Sun, 05 Oct 2025) EndedAt: 2025-10-05 15:37:23 -0400 (Sun, 05 Oct 2025) EllapsedTime: 16.2 seconds RetCode: 0 Status: OK PackageFile: ANF_1.31.0.tar.gz PackageFileSize: 683.3 KiB