Package: ANCOMBC Version: 2.11.1 Command: /home/biocbuild/R/R/bin/R CMD INSTALL ANCOMBC StartedAt: 2025-07-24 21:07:19 -0000 (Thu, 24 Jul 2025) EndedAt: 2025-07-24 21:07:51 -0000 (Thu, 24 Jul 2025) EllapsedTime: 31.4 seconds RetCode: 0 Status: OK