Package: ANCOMBC Version: 2.11.1 Command: /home/biocbuild/R/R/bin/R CMD build --keep-empty-dirs --no-resave-data ANCOMBC StartedAt: 2025-07-24 22:25:34 -0000 (Thu, 24 Jul 2025) EndedAt: 2025-07-24 22:55:05 -0000 (Thu, 24 Jul 2025) EllapsedTime: 1770.5 seconds RetCode: 0 Status: OK PackageFile: ANCOMBC_2.11.1.tar.gz PackageFileSize: 853.8 KiB