Package: AMOUNTAIN Version: 1.35.0 Command: /home/biocbuild/R/R/bin/R CMD INSTALL AMOUNTAIN StartedAt: 2025-06-30 20:26:49 -0000 (Mon, 30 Jun 2025) EndedAt: 2025-06-30 20:27:11 -0000 (Mon, 30 Jun 2025) EllapsedTime: 21.5 seconds RetCode: 0 Status: OK