Package: AMOUNTAIN Version: 1.35.0 Command: /home/biocbuild/R/R/bin/R CMD build --keep-empty-dirs --no-resave-data AMOUNTAIN StartedAt: 2025-07-03 21:46:15 -0000 (Thu, 03 Jul 2025) EndedAt: 2025-07-03 21:46:35 -0000 (Thu, 03 Jul 2025) EllapsedTime: 20.0 seconds RetCode: 0 Status: OK PackageFile: AMOUNTAIN_1.35.0.tar.gz PackageFileSize: 801.2 KiB