Package: AMOUNTAIN Version: 1.35.0 Command: F:\biocbuild\bbs-3.22-bioc\R\bin\R.exe CMD check --no-multiarch --install=check:AMOUNTAIN.install-out.txt --library=F:\biocbuild\bbs-3.22-bioc\R\library --no-vignettes --timings AMOUNTAIN_1.35.0.tar.gz StartedAt: 2025-07-17 23:13:21 -0400 (Thu, 17 Jul 2025) EndedAt: 2025-07-17 23:13:52 -0400 (Thu, 17 Jul 2025) EllapsedTime: 31.0 seconds RetCode: 0 Status: OK CheckDir: AMOUNTAIN.Rcheck Warnings: 0