Package: AMOUNTAIN Version: 1.35.0 Command: rm -rf AMOUNTAIN.buildbin-libdir && mkdir AMOUNTAIN.buildbin-libdir && F:\biocbuild\bbs-3.22-bioc\R\bin\R.exe CMD INSTALL --build --library=AMOUNTAIN.buildbin-libdir AMOUNTAIN_1.35.0.tar.gz StartedAt: 2025-07-15 08:23:42 -0400 (Tue, 15 Jul 2025) EndedAt: 2025-07-15 08:24:00 -0400 (Tue, 15 Jul 2025) EllapsedTime: 17.8 seconds RetCode: 0 Status: OK PackageFile: AMOUNTAIN_1.35.0.zip PackageFileSize: 1.152 MiB