Package: AMOUNTAIN Version: 1.35.0 Command: rm -rf AMOUNTAIN.buildbin-libdir && mkdir AMOUNTAIN.buildbin-libdir && /Users/biocbuild/BBS/utils/build-universal.sh AMOUNTAIN_1.35.0.tar.gz /Library/Frameworks/R.framework/Resources/bin/R AMOUNTAIN.buildbin-libdir StartedAt: 2025-07-21 00:50:39 -0400 (Mon, 21 Jul 2025) EndedAt: 2025-07-21 00:50:48 -0400 (Mon, 21 Jul 2025) EllapsedTime: 9.2 seconds RetCode: 0 Status: OK PackageFile: AMOUNTAIN_1.35.0.tgz PackageFileSize: 1.795 MiB