Package: AMARETTO Version: 1.25.0 Command: /home/biocbuild/R/R/bin/R CMD check --install=check:AMARETTO.install-out.txt --library=/home/biocbuild/R/R/site-library --no-vignettes --timings AMARETTO_1.25.0.tar.gz StartedAt: 2025-07-15 04:08:28 -0000 (Tue, 15 Jul 2025) EndedAt: 2025-07-15 04:15:00 -0000 (Tue, 15 Jul 2025) EllapsedTime: 392.6 seconds RetCode: 0 Status: WARNINGS CheckDir: AMARETTO.Rcheck Warnings: 1