Package: ALDEx2 Version: 1.41.0 Command: chmod a+r ALDEx2 -R && F:\biocbuild\bbs-3.22-bioc\R\bin\R.exe CMD build --keep-empty-dirs --no-resave-data ALDEx2 StartedAt: 2025-08-14 18:24:19 -0400 (Thu, 14 Aug 2025) EndedAt: 2025-08-14 18:27:04 -0400 (Thu, 14 Aug 2025) EllapsedTime: 164.7 seconds RetCode: 0 Status: OK PackageFile: ALDEx2_1.41.0.tar.gz PackageFileSize: 1.896 MiB