Package: ALDEx2 Version: 1.41.0 Command: rm -rf ALDEx2.buildbin-libdir && mkdir ALDEx2.buildbin-libdir && F:\biocbuild\bbs-3.22-bioc\R\bin\R.exe CMD INSTALL --build --library=ALDEx2.buildbin-libdir ALDEx2_1.41.0.tar.gz StartedAt: 2025-08-15 09:42:39 -0400 (Fri, 15 Aug 2025) EndedAt: 2025-08-15 09:43:32 -0400 (Fri, 15 Aug 2025) EllapsedTime: 53.8 seconds RetCode: 0 Status: OK PackageFile: ALDEx2_1.41.0.zip PackageFileSize: 1.554 MiB