Package: ALDEx2 Version: 1.41.0 Command: /Library/Frameworks/R.framework/Resources/bin/R CMD build --keep-empty-dirs --no-resave-data ALDEx2 StartedAt: 2025-07-07 15:34:53 -0400 (Mon, 07 Jul 2025) EndedAt: 2025-07-07 15:35:34 -0400 (Mon, 07 Jul 2025) EllapsedTime: 40.4 seconds RetCode: 0 Status: OK PackageFile: ALDEx2_1.41.0.tar.gz PackageFileSize: 3.098 MiB