Package: AIMS Version: 1.41.0 Command: rm -rf AIMS.buildbin-libdir && mkdir AIMS.buildbin-libdir && F:\biocbuild\bbs-3.22-bioc\R\bin\R.exe CMD INSTALL --build --library=AIMS.buildbin-libdir AIMS_1.41.0.tar.gz StartedAt: 2025-08-15 09:41:53 -0400 (Fri, 15 Aug 2025) EndedAt: 2025-08-15 09:42:05 -0400 (Fri, 15 Aug 2025) EllapsedTime: 12.5 seconds RetCode: 0 Status: OK PackageFile: AIMS_1.41.0.zip PackageFileSize: 505.4 KiB