Package: AHMassBank Version: 1.9.0 Command: /home/biocbuild/R/R/bin/R CMD INSTALL AHMassBank StartedAt: 2025-10-06 21:01:40 -0000 (Mon, 06 Oct 2025) EndedAt: 2025-10-06 21:02:29 -0000 (Mon, 06 Oct 2025) EllapsedTime: 49.3 seconds RetCode: 0 Status: OK