Package: AHMassBank Version: 1.9.0 Command: F:\biocbuild\bbs-3.22-bioc\R\bin\R.exe CMD INSTALL AHMassBank StartedAt: 2025-08-14 16:39:04 -0400 (Thu, 14 Aug 2025) EndedAt: 2025-08-14 16:39:53 -0400 (Thu, 14 Aug 2025) EllapsedTime: 49.5 seconds RetCode: 0 Status: OK