Package: AHMassBank Version: 1.9.0 Command: rm -rf AHMassBank.buildbin-libdir && mkdir AHMassBank.buildbin-libdir && F:\biocbuild\bbs-3.22-bioc\R\bin\R.exe CMD INSTALL --build --library=AHMassBank.buildbin-libdir AHMassBank_1.9.0.tar.gz StartedAt: 2025-08-15 09:41:51 -0400 (Fri, 15 Aug 2025) EndedAt: 2025-08-15 09:42:37 -0400 (Fri, 15 Aug 2025) EllapsedTime: 45.8 seconds RetCode: 0 Status: OK PackageFile: AHMassBank_1.9.0.zip PackageFileSize: 308.3 KiB