Package: AHMassBank Version: 1.9.0 Command: /Library/Frameworks/R.framework/Resources/bin/R CMD check --install=check:AHMassBank.install-out.txt --library=/Library/Frameworks/R.framework/Resources/library --no-vignettes --timings AHMassBank_1.9.0.tar.gz StartedAt: 2025-10-06 19:44:37 -0400 (Mon, 06 Oct 2025) EndedAt: 2025-10-06 19:49:16 -0400 (Mon, 06 Oct 2025) EllapsedTime: 278.7 seconds RetCode: 0 Status: OK CheckDir: AHMassBank.Rcheck Warnings: 0