Package: AGDEX Version: 1.57.0 Command: /home/biocbuild/R/R/bin/R CMD build --keep-empty-dirs --no-resave-data AGDEX StartedAt: 2025-07-14 21:33:32 -0000 (Mon, 14 Jul 2025) EndedAt: 2025-07-14 21:34:00 -0000 (Mon, 14 Jul 2025) EllapsedTime: 28.0 seconds RetCode: 0 Status: OK PackageFile: AGDEX_1.57.0.tar.gz PackageFileSize: 483.4 KiB