Package: AGDEX Version: 1.57.0 Command: F:\biocbuild\bbs-3.22-bioc\R\bin\R.exe CMD INSTALL AGDEX StartedAt: 2025-08-14 16:12:35 -0400 (Thu, 14 Aug 2025) EndedAt: 2025-08-14 16:13:01 -0400 (Thu, 14 Aug 2025) EllapsedTime: 25.8 seconds RetCode: 0 Status: OK