Package: AGDEX Version: 1.57.0 Command: F:\biocbuild\bbs-3.22-bioc\R\bin\R.exe CMD check --no-multiarch --install=check:AGDEX.install-out.txt --library=F:\biocbuild\bbs-3.22-bioc\R\library --no-vignettes --timings AGDEX_1.57.0.tar.gz StartedAt: 2025-08-15 00:22:45 -0400 (Fri, 15 Aug 2025) EndedAt: 2025-08-15 00:24:10 -0400 (Fri, 15 Aug 2025) EllapsedTime: 84.5 seconds RetCode: 0 Status: OK CheckDir: AGDEX.Rcheck Warnings: 0