Package: AGDEX Version: 1.57.0 Command: chmod a+r AGDEX -R && F:\biocbuild\bbs-3.22-bioc\R\bin\R.exe CMD build --keep-empty-dirs --no-resave-data AGDEX StartedAt: 2025-08-14 18:22:29 -0400 (Thu, 14 Aug 2025) EndedAt: 2025-08-14 18:23:12 -0400 (Thu, 14 Aug 2025) EllapsedTime: 42.1 seconds RetCode: 0 Status: OK PackageFile: AGDEX_1.57.0.tar.gz PackageFileSize: 486.7 KiB