Package: AGDEX Version: 1.57.0 Command: rm -rf AGDEX.buildbin-libdir && mkdir AGDEX.buildbin-libdir && F:\biocbuild\bbs-3.22-bioc\R\bin\R.exe CMD INSTALL --build --library=AGDEX.buildbin-libdir AGDEX_1.57.0.tar.gz StartedAt: 2025-08-15 09:41:44 -0400 (Fri, 15 Aug 2025) EndedAt: 2025-08-15 09:42:14 -0400 (Fri, 15 Aug 2025) EllapsedTime: 29.2 seconds RetCode: 0 Status: OK PackageFile: AGDEX_1.57.0.zip PackageFileSize: 562.5 KiB